BEGIN:VCALENDAR
VERSION:2.0
PRODID:-//Eastman Tourism - ECPv6.15.14//NONSGML v1.0//EN
CALSCALE:GREGORIAN
METHOD:PUBLISH
X-WR-CALNAME:Eastman Tourism
X-ORIGINAL-URL:https://eastmantourism.ca
X-WR-CALDESC:Events for Eastman Tourism
REFRESH-INTERVAL;VALUE=DURATION:PT1H
X-Robots-Tag:noindex
X-PUBLISHED-TTL:PT1H
BEGIN:VTIMEZONE
TZID:America/Winnipeg
BEGIN:DAYLIGHT
TZOFFSETFROM:-0600
TZOFFSETTO:-0500
TZNAME:CDT
DTSTART:20250309T080000
END:DAYLIGHT
BEGIN:STANDARD
TZOFFSETFROM:-0500
TZOFFSETTO:-0600
TZNAME:CST
DTSTART:20251102T070000
END:STANDARD
BEGIN:DAYLIGHT
TZOFFSETFROM:-0600
TZOFFSETTO:-0500
TZNAME:CDT
DTSTART:20260308T080000
END:DAYLIGHT
BEGIN:STANDARD
TZOFFSETFROM:-0500
TZOFFSETTO:-0600
TZNAME:CST
DTSTART:20261101T070000
END:STANDARD
BEGIN:DAYLIGHT
TZOFFSETFROM:-0600
TZOFFSETTO:-0500
TZNAME:CDT
DTSTART:20270314T080000
END:DAYLIGHT
BEGIN:STANDARD
TZOFFSETFROM:-0500
TZOFFSETTO:-0600
TZNAME:CST
DTSTART:20271107T070000
END:STANDARD
END:VTIMEZONE
BEGIN:VEVENT
DTSTART;TZID=America/Winnipeg:20260723T183000
DTEND;TZID=America/Winnipeg:20260723T203000
DTSTAMP:20260423T003953
CREATED:20260417T194001Z
LAST-MODIFIED:20260417T194001Z
UID:10000184-1784831400-1784838600@eastmantourism.ca
SUMMARY:Homegrown Harmonies - Music in the Park
DESCRIPTION:
URL:https://eastmantourism.ca/current-events/homegrown-harmonies-music-in-the-park-3/
LOCATION:TC Energy Centre\, 1 Rivard Street\, Ile des Chenes\, MB\, Canada
END:VEVENT
BEGIN:VEVENT
DTSTART;TZID=America/Winnipeg:20260726T100000
DTEND;TZID=America/Winnipeg:20260726T150000
DTSTAMP:20260423T003953
CREATED:20260417T202926Z
LAST-MODIFIED:20260417T202926Z
UID:10000190-1785060000-1785078000@eastmantourism.ca
SUMMARY:St Adolphe Markets
DESCRIPTION:
URL:https://eastmantourism.ca/current-events/st-adolphe-markets-2/
LOCATION:RM of Richot Office\, 352 Main St\, St. Adolphe\, MB\, Canada
END:VEVENT
BEGIN:VEVENT
DTSTART;TZID=America/Winnipeg:20260730T210000
DTEND;TZID=America/Winnipeg:20260730T230000
DTSTAMP:20260423T003953
CREATED:20260417T195637Z
LAST-MODIFIED:20260417T195637Z
UID:10000187-1785445200-1785452400@eastmantourism.ca
SUMMARY:Movies in the Park
DESCRIPTION:Movie begins at sunset.
URL:https://eastmantourism.ca/current-events/movies-in-the-park/
LOCATION:Boat Launch\, Ste. Agathe\, MB\, Canada
END:VEVENT
BEGIN:VEVENT
DTSTART;TZID=America/Winnipeg:20260820T183000
DTEND;TZID=America/Winnipeg:20260820T203000
DTSTAMP:20260423T003953
CREATED:20260417T194700Z
LAST-MODIFIED:20260417T194700Z
UID:10000185-1787250600-1787257800@eastmantourism.ca
SUMMARY:Homegrown Harmonies - Music in the Park
DESCRIPTION:
URL:https://eastmantourism.ca/current-events/homegrown-harmonies-music-in-the-park-4/
LOCATION:St. Adolphe Park\, 541 Tache Ave\, St. Adolphe\, MB\, Canada
END:VEVENT
BEGIN:VEVENT
DTSTART;TZID=America/Winnipeg:20260823T100000
DTEND;TZID=America/Winnipeg:20260823T150000
DTSTAMP:20260423T003953
CREATED:20260417T204635Z
LAST-MODIFIED:20260417T204635Z
UID:10000191-1787479200-1787497200@eastmantourism.ca
SUMMARY:St Adolphe Markets
DESCRIPTION:
URL:https://eastmantourism.ca/current-events/st-adolphe-markets-3/
LOCATION:RM of Richot Office\, 352 Main St\, St. Adolphe\, MB\, Canada
END:VEVENT
BEGIN:VEVENT
DTSTART;TZID=America/Winnipeg:20260827T203000
DTEND;TZID=America/Winnipeg:20260827T223000
DTSTAMP:20260423T003953
CREATED:20260417T200004Z
LAST-MODIFIED:20260417T200004Z
UID:10000188-1787862600-1787869800@eastmantourism.ca
SUMMARY:Movies in the Park
DESCRIPTION:Movie begins at sunset.
URL:https://eastmantourism.ca/current-events/movies-in-the-park-2/
LOCATION:TC Energy Centre\, 1 Rivard Street\, Ile des Chenes\, MB\, Canada
END:VEVENT
BEGIN:VEVENT
DTSTART;TZID=America/Winnipeg:20260910T183000
DTEND;TZID=America/Winnipeg:20260910T203000
DTSTAMP:20260423T003953
CREATED:20260417T195033Z
LAST-MODIFIED:20260417T195033Z
UID:10000186-1789065000-1789072200@eastmantourism.ca
SUMMARY:Homegrown Harmonies - Music in the Park
DESCRIPTION:
URL:https://eastmantourism.ca/current-events/homegrown-harmonies-music-in-the-park-5/
LOCATION:Grand Pointe Park\, 423 Bernat Road\, Grande Pointe\, MB\, Canada
END:VEVENT
BEGIN:VEVENT
DTSTART;TZID=America/Winnipeg:20260913T100000
DTEND;TZID=America/Winnipeg:20260913T170000
DTSTAMP:20260423T003953
CREATED:20260417T205007Z
LAST-MODIFIED:20260417T205007Z
UID:10000192-1789293600-1789318800@eastmantourism.ca
SUMMARY:St Adolphe Markets
DESCRIPTION:
URL:https://eastmantourism.ca/current-events/st-adolphe-markets-4/
LOCATION:St. Adolphe Park\, 541 Tache Ave\, St. Adolphe\, MB\, Canada
END:VEVENT
BEGIN:VEVENT
DTSTART;TZID=America/Winnipeg:20261004T100000
DTEND;TZID=America/Winnipeg:20261004T120000
DTSTAMP:20260423T003953
CREATED:20260417T205522Z
LAST-MODIFIED:20260417T205522Z
UID:10000193-1791108000-1791115200@eastmantourism.ca
SUMMARY:Run Run Ritchot!
DESCRIPTION:Race starts at 10am.
URL:https://eastmantourism.ca/current-events/run-run-ritchot/
LOCATION:Iles des Chenes
END:VEVENT
END:VCALENDAR