BEGIN:VCALENDAR
VERSION:2.0
PRODID:-//Eastman Tourism - ECPv6.15.14//NONSGML v1.0//EN
CALSCALE:GREGORIAN
METHOD:PUBLISH
X-WR-CALNAME:Eastman Tourism
X-ORIGINAL-URL:https://eastmantourism.ca
X-WR-CALDESC:Events for Eastman Tourism
REFRESH-INTERVAL;VALUE=DURATION:PT1H
X-Robots-Tag:noindex
X-PUBLISHED-TTL:PT1H
BEGIN:VTIMEZONE
TZID:America/Winnipeg
BEGIN:DAYLIGHT
TZOFFSETFROM:-0600
TZOFFSETTO:-0500
TZNAME:CDT
DTSTART:20250309T080000
END:DAYLIGHT
BEGIN:STANDARD
TZOFFSETFROM:-0500
TZOFFSETTO:-0600
TZNAME:CST
DTSTART:20251102T070000
END:STANDARD
BEGIN:DAYLIGHT
TZOFFSETFROM:-0600
TZOFFSETTO:-0500
TZNAME:CDT
DTSTART:20260308T080000
END:DAYLIGHT
BEGIN:STANDARD
TZOFFSETFROM:-0500
TZOFFSETTO:-0600
TZNAME:CST
DTSTART:20261101T070000
END:STANDARD
BEGIN:DAYLIGHT
TZOFFSETFROM:-0600
TZOFFSETTO:-0500
TZNAME:CDT
DTSTART:20270314T080000
END:DAYLIGHT
BEGIN:STANDARD
TZOFFSETFROM:-0500
TZOFFSETTO:-0600
TZNAME:CST
DTSTART:20271107T070000
END:STANDARD
END:VTIMEZONE
BEGIN:VEVENT
DTSTART;TZID=America/Winnipeg:20260520T100000
DTEND;TZID=America/Winnipeg:20260520T120000
DTSTAMP:20260424T054203
CREATED:20260410T185205Z
LAST-MODIFIED:20260410T185205Z
UID:10000171-1779271200-1779278400@eastmantourism.ca
SUMMARY:Spreadsheets For The Workplace – Excel Level 2
DESCRIPTION:Fully funded training! These sessions are fully online\, put on by WEM Interlake. \nIncrease your skills for success and learn how to efficiently use Excel formulas\, tables and charts for managing business processes. \nYou’ll be on your way to EXCEL-lence! \nRegister now at interlake.west@wem.mb.ca !
URL:https://eastmantourism.ca/current-events/spreadsheets-for-the-workplace-excel-level-2/2026-05-20/
END:VEVENT
BEGIN:VEVENT
DTSTART;TZID=America/Winnipeg:20260522T090000
DTEND;TZID=America/Winnipeg:20260522T160000
DTSTAMP:20260424T054203
CREATED:20260410T191005Z
LAST-MODIFIED:20260410T191200Z
UID:10000175-1779440400-1779465600@eastmantourism.ca
SUMMARY:Administrative Assistant Tool Kit
DESCRIPTION:Fully funded training! These sessions are put on by WEM Interlake. \nThis series of workshops in designed to equip learners with the essential knowledge and skills required to excel in their role of an Administrative Assistant. \nTopics covered include office management\, communication\, organizational skills\, customer service and working with others. \nMay 22 – IN-PERSON\, 9:00 – 4:00 PM \nMay 29\, June 5\, 12\, 19 – ONLINE\, 9:00 – 12:00 PM \nJune 26 – IN-PERSON\, 9:00 – 4:00 PM \nIn-person sessions held at: Gaynor Family Regional Library\, Selkirk\, MB \nRegister at: interlake.west@wem.mb.ca
URL:https://eastmantourism.ca/current-events/administrative-assistant-tool-kit/2026-05-22/
LOCATION:Gaynor Family Regional Library\, 806 Manitoba Ave\, Selkirk\, Manitoba\, R1A 2H4\, Canada
END:VEVENT
BEGIN:VEVENT
DTSTART;TZID=America/Winnipeg:20260527T100000
DTEND;TZID=America/Winnipeg:20260527T120000
DTSTAMP:20260424T054203
CREATED:20260410T185205Z
LAST-MODIFIED:20260410T185205Z
UID:10000172-1779876000-1779883200@eastmantourism.ca
SUMMARY:Spreadsheets For The Workplace – Excel Level 2
DESCRIPTION:Fully funded training! These sessions are fully online\, put on by WEM Interlake. \nIncrease your skills for success and learn how to efficiently use Excel formulas\, tables and charts for managing business processes. \nYou’ll be on your way to EXCEL-lence! \nRegister now at interlake.west@wem.mb.ca !
URL:https://eastmantourism.ca/current-events/spreadsheets-for-the-workplace-excel-level-2/2026-05-27/
END:VEVENT
BEGIN:VEVENT
DTSTART;TZID=America/Winnipeg:20260528T183000
DTEND;TZID=America/Winnipeg:20260528T203000
DTSTAMP:20260424T054203
CREATED:20260417T193211Z
LAST-MODIFIED:20260417T193820Z
UID:10000182-1779993000-1780000200@eastmantourism.ca
SUMMARY:Homegrown Harmonies - Music in the Park
DESCRIPTION:
URL:https://eastmantourism.ca/current-events/homegrown-harmonies-music-in-the-park/
LOCATION:Boat Launch\, Ste. Agathe\, MB\, Canada
END:VEVENT
BEGIN:VEVENT
DTSTART;TZID=America/Winnipeg:20260529T090000
DTEND;TZID=America/Winnipeg:20260529T120000
DTSTAMP:20260424T054203
CREATED:20260410T191504Z
LAST-MODIFIED:20260410T191504Z
UID:10000177-1780045200-1780056000@eastmantourism.ca
SUMMARY:Administrative Assistant Tool Kit
DESCRIPTION:Fully funded training! These sessions are put on by WEM Interlake. \nThis series of workshops in designed to equip learners with the essential knowledge and skills required to excel in their role of an Administrative Assistant. \nTopics covered include office management\, communication\, organizational skills\, customer service and working with others. \nMay 22 – IN-PERSON\, 9:00 – 4:00 PM \nMay 29\, June 5\, 12\, 19 – ONLINE\, 9:00 – 12:00 PM \nJune 26 – IN-PERSON\, 9:00 – 4:00 PM \nIn-person sessions held at: Gaynor Family Regional Library\, Selkirk\, MB \nRegister at: interlake.west@wem.mb.ca
URL:https://eastmantourism.ca/current-events/administrative-assistant-tool-kit-2/2026-05-29/
LOCATION:Online
END:VEVENT
BEGIN:VEVENT
DTSTART;VALUE=DATE:20260530
DTEND;VALUE=DATE:20260531
DTSTAMP:20260424T054203
CREATED:20260313T181052Z
LAST-MODIFIED:20260327T053904Z
UID:10000104-1780099200-1780185599@eastmantourism.ca
SUMMARY:Eastman Tourism's Tourism & Outdoor Show
DESCRIPTION:Join us this May at the Eastern Manitoba Tourism Association’s Tourism & Outdoor Show! We are celebrating “Rising from the Ashes”. See full event details by clicking here
URL:https://eastmantourism.ca/current-events/eastman-tourisms-tourism-outdoor-show/2026-05-30/
LOCATION:Lac du Bonnet Arena & Community Centre\, 35 McArthur Ave\, Lac du Bonnet\, Manitoba\, R0E 1A0\, Canada
ATTACH;FMTTYPE=image/png:https://eastmantourism.ca/wp-content/uploads/2026/03/Screenshot-2026-03-13-at-11.47.33-AM.png
ORGANIZER;CN="Eastman Tourism":MAILTO:admin@eastmantourism.ca
END:VEVENT
BEGIN:VEVENT
DTSTART;TZID=America/Winnipeg:20260530T100000
DTEND;TZID=America/Winnipeg:20260530T120000
DTSTAMP:20260424T054203
CREATED:20260423T143808Z
LAST-MODIFIED:20260423T143808Z
UID:10000212-1780135200-1780142400@eastmantourism.ca
SUMMARY:Vita Seedy Saturday
DESCRIPTION:Garden Swap and Sale. \nBring your extra seedling plants\, seeds\, and garden tools to swap or sell. \n10:30 – principles of soil health \n10:50 – demystifying seed labels \n11:10 – tools of the trade \nOrganized by Stuartburn Emerson-Franklin Local Food Initiative.
URL:https://eastmantourism.ca/current-events/vita-seedy-saturday/
LOCATION:Rest Area\, Vita\, Manitoba\, Canada
END:VEVENT
BEGIN:VEVENT
DTSTART;VALUE=DATE:20260531
DTEND;VALUE=DATE:20260601
DTSTAMP:20260424T054203
CREATED:20260313T181052Z
LAST-MODIFIED:20260327T053904Z
UID:10000105-1780214400-1780246800@eastmantourism.ca
SUMMARY:Eastman Tourism's Tourism & Outdoor Show
DESCRIPTION:Join us this May at the Eastern Manitoba Tourism Association’s Tourism & Outdoor Show! We are celebrating “Rising from the Ashes”. See full event details by clicking here
URL:https://eastmantourism.ca/current-events/eastman-tourisms-tourism-outdoor-show/2026-05-31/
LOCATION:Lac du Bonnet Arena & Community Centre\, 35 McArthur Ave\, Lac du Bonnet\, Manitoba\, R0E 1A0\, Canada
ATTACH;FMTTYPE=image/png:https://eastmantourism.ca/wp-content/uploads/2026/03/Screenshot-2026-03-13-at-11.47.33-AM.png
ORGANIZER;CN="Eastman Tourism":MAILTO:admin@eastmantourism.ca
END:VEVENT
BEGIN:VEVENT
DTSTART;TZID=America/Winnipeg:20260531T100000
DTEND;TZID=America/Winnipeg:20260531T140000
DTSTAMP:20260424T054203
CREATED:20260422T205343Z
LAST-MODIFIED:20260422T205343Z
UID:10000196-1780221600-1780236000@eastmantourism.ca
SUMMARY:Pancake Breakfast
DESCRIPTION:Adults – $10.00 / person\n6-10 years – $5.00 each\nPreschoolers are FREE\nEveryone welcome
URL:https://eastmantourism.ca/current-events/pancake-breakfast-2/
LOCATION:Vita Friendship Centre\, 226 Home Street\, Vita\, Manitoba\, Canada
END:VEVENT
BEGIN:VEVENT
DTSTART;TZID=America/Winnipeg:20260603T100000
DTEND;TZID=America/Winnipeg:20260603T120000
DTSTAMP:20260424T054203
CREATED:20260410T185205Z
LAST-MODIFIED:20260410T185205Z
UID:10000173-1780480800-1780488000@eastmantourism.ca
SUMMARY:Spreadsheets For The Workplace – Excel Level 2
DESCRIPTION:Fully funded training! These sessions are fully online\, put on by WEM Interlake. \nIncrease your skills for success and learn how to efficiently use Excel formulas\, tables and charts for managing business processes. \nYou’ll be on your way to EXCEL-lence! \nRegister now at interlake.west@wem.mb.ca !
URL:https://eastmantourism.ca/current-events/spreadsheets-for-the-workplace-excel-level-2/2026-06-03/
END:VEVENT
BEGIN:VEVENT
DTSTART;TZID=America/Winnipeg:20260605T090000
DTEND;TZID=America/Winnipeg:20260605T120000
DTSTAMP:20260424T054203
CREATED:20260410T191504Z
LAST-MODIFIED:20260410T191504Z
UID:10000178-1780650000-1780660800@eastmantourism.ca
SUMMARY:Administrative Assistant Tool Kit
DESCRIPTION:Fully funded training! These sessions are put on by WEM Interlake. \nThis series of workshops in designed to equip learners with the essential knowledge and skills required to excel in their role of an Administrative Assistant. \nTopics covered include office management\, communication\, organizational skills\, customer service and working with others. \nMay 22 – IN-PERSON\, 9:00 – 4:00 PM \nMay 29\, June 5\, 12\, 19 – ONLINE\, 9:00 – 12:00 PM \nJune 26 – IN-PERSON\, 9:00 – 4:00 PM \nIn-person sessions held at: Gaynor Family Regional Library\, Selkirk\, MB \nRegister at: interlake.west@wem.mb.ca
URL:https://eastmantourism.ca/current-events/administrative-assistant-tool-kit-2/2026-06-05/
LOCATION:Online
END:VEVENT
BEGIN:VEVENT
DTSTART;TZID=America/Winnipeg:20260610T100000
DTEND;TZID=America/Winnipeg:20260610T120000
DTSTAMP:20260424T054203
CREATED:20260410T185205Z
LAST-MODIFIED:20260410T185205Z
UID:10000174-1781085600-1781092800@eastmantourism.ca
SUMMARY:Spreadsheets For The Workplace – Excel Level 2
DESCRIPTION:Fully funded training! These sessions are fully online\, put on by WEM Interlake. \nIncrease your skills for success and learn how to efficiently use Excel formulas\, tables and charts for managing business processes. \nYou’ll be on your way to EXCEL-lence! \nRegister now at interlake.west@wem.mb.ca !
URL:https://eastmantourism.ca/current-events/spreadsheets-for-the-workplace-excel-level-2/2026-06-10/
END:VEVENT
BEGIN:VEVENT
DTSTART;TZID=America/Winnipeg:20260612T090000
DTEND;TZID=America/Winnipeg:20260612T120000
DTSTAMP:20260424T054203
CREATED:20260410T191504Z
LAST-MODIFIED:20260410T191504Z
UID:10000179-1781254800-1781265600@eastmantourism.ca
SUMMARY:Administrative Assistant Tool Kit
DESCRIPTION:Fully funded training! These sessions are put on by WEM Interlake. \nThis series of workshops in designed to equip learners with the essential knowledge and skills required to excel in their role of an Administrative Assistant. \nTopics covered include office management\, communication\, organizational skills\, customer service and working with others. \nMay 22 – IN-PERSON\, 9:00 – 4:00 PM \nMay 29\, June 5\, 12\, 19 – ONLINE\, 9:00 – 12:00 PM \nJune 26 – IN-PERSON\, 9:00 – 4:00 PM \nIn-person sessions held at: Gaynor Family Regional Library\, Selkirk\, MB \nRegister at: interlake.west@wem.mb.ca
URL:https://eastmantourism.ca/current-events/administrative-assistant-tool-kit-2/2026-06-12/
LOCATION:Online
END:VEVENT
BEGIN:VEVENT
DTSTART;TZID=America/Winnipeg:20260614T110000
DTEND;TZID=America/Winnipeg:20260614T140000
DTSTAMP:20260424T054203
CREATED:20260422T212150Z
LAST-MODIFIED:20260422T212150Z
UID:10000198-1781434800-1781445600@eastmantourism.ca
SUMMARY:Fathers' Day at the Park
DESCRIPTION:Raising funds for repairs and maintenance of the hall. \nHotdog\, chips\, drink: $10 \nSmokie\, chips\, drink: $15 \nDad’s burger combo: $17 \n50/50 kick off summer raffle basket \numvsfundraising@gmail.com
URL:https://eastmantourism.ca/current-events/fathers-day-at-the-park/
LOCATION:Ukrainian Museum & Village Society Inc. – Gardenton Park\, 38M4+VQ\, Gardenton\, Manitoba\, Canada
END:VEVENT
BEGIN:VEVENT
DTSTART;TZID=America/Winnipeg:20260617T130000
DTEND;TZID=America/Winnipeg:20260617T160000
DTSTAMP:20260424T054203
CREATED:20260423T133208Z
LAST-MODIFIED:20260423T133235Z
UID:10000202-1781701200-1781712000@eastmantourism.ca
SUMMARY:All Ages Community Forest & Nature School
DESCRIPTION:Presented by Gerhard E. Dekker Regenerative Education Center \n\nWild Skills\nArts & Crafts\nExploring & Play\nIn Reciprocity with the Land\n\nSat. May 2 – Red Willow Dreamcatcher Workshop with Alicia Alphonso & Big Group Games \nWed. June 17 – Nature Inspired Self Portraits & Herbal First Aid \nBoth sessions – free creative play\, with access to loose parts\, art materials\, equipment\, books & tools. Games\, sit spot & natural journaling. Intergenerational skill sharing. \n$5 – $33 sliding scale \nAges 0-99+ \nChildren must be accompanied by an adult. \nTo register\, visit www.gerhardcenter.org \nWith thanks to the Manitoba Government’s From the Ground Up grant funding\, which has made this program possible.
URL:https://eastmantourism.ca/current-events/all-ages-community-froest-nature-school/2026-06-17/
LOCATION:Weston Family Tall Grass Prairie Interpretive Centre\, Stuartburn\, Manitoba\, Canada
END:VEVENT
BEGIN:VEVENT
DTSTART;TZID=America/Winnipeg:20260618T110000
DTEND;TZID=America/Winnipeg:20260618T200000
DTSTAMP:20260424T054203
CREATED:20260410T181107Z
LAST-MODIFIED:20260410T185435Z
UID:10000111-1781780400-1781812800@eastmantourism.ca
SUMMARY:All Fore Local Golf Tournament
DESCRIPTION:For more information on the event\, view this PDF: All Fore Local Golf Tournament Information
URL:https://eastmantourism.ca/current-events/all-fore-local-golf-tournament/
LOCATION:Selkirk Golf Course\, 100 Sutherland Ave\, Selkirk\, MB\, R1A 0L3
END:VEVENT
BEGIN:VEVENT
DTSTART;TZID=America/Winnipeg:20260618T183000
DTEND;TZID=America/Winnipeg:20260618T203000
DTSTAMP:20260424T054203
CREATED:20260417T193543Z
LAST-MODIFIED:20260417T193543Z
UID:10000183-1781807400-1781814600@eastmantourism.ca
SUMMARY:Homegrown Harmonies - Music in the Park
DESCRIPTION:
URL:https://eastmantourism.ca/current-events/homegrown-harmonies-music-in-the-park-2/
LOCATION:Howden Community Centre\, 1078 Red River Drive\, Howden\, MB\, Canada
END:VEVENT
BEGIN:VEVENT
DTSTART;TZID=America/Winnipeg:20260619T090000
DTEND;TZID=America/Winnipeg:20260619T120000
DTSTAMP:20260424T054203
CREATED:20260410T191504Z
LAST-MODIFIED:20260410T191504Z
UID:10000180-1781859600-1781870400@eastmantourism.ca
SUMMARY:Administrative Assistant Tool Kit
DESCRIPTION:Fully funded training! These sessions are put on by WEM Interlake. \nThis series of workshops in designed to equip learners with the essential knowledge and skills required to excel in their role of an Administrative Assistant. \nTopics covered include office management\, communication\, organizational skills\, customer service and working with others. \nMay 22 – IN-PERSON\, 9:00 – 4:00 PM \nMay 29\, June 5\, 12\, 19 – ONLINE\, 9:00 – 12:00 PM \nJune 26 – IN-PERSON\, 9:00 – 4:00 PM \nIn-person sessions held at: Gaynor Family Regional Library\, Selkirk\, MB \nRegister at: interlake.west@wem.mb.ca
URL:https://eastmantourism.ca/current-events/administrative-assistant-tool-kit-2/2026-06-19/
LOCATION:Online
END:VEVENT
BEGIN:VEVENT
DTSTART;TZID=America/Winnipeg:20260621T100000
DTEND;TZID=America/Winnipeg:20260621T150000
DTSTAMP:20260424T054203
CREATED:20260417T202040Z
LAST-MODIFIED:20260417T202040Z
UID:10000189-1782036000-1782054000@eastmantourism.ca
SUMMARY:St. Adolphe Markets
DESCRIPTION:
URL:https://eastmantourism.ca/current-events/st-adolphe-markets/
LOCATION:RM of Richot Office\, 352 Main St\, St. Adolphe\, MB\, Canada
END:VEVENT
BEGIN:VEVENT
DTSTART;TZID=America/Winnipeg:20260626T090000
DTEND;TZID=America/Winnipeg:20260626T160000
DTSTAMP:20260424T054203
CREATED:20260410T191005Z
LAST-MODIFIED:20260410T191200Z
UID:10000176-1782464400-1782489600@eastmantourism.ca
SUMMARY:Administrative Assistant Tool Kit
DESCRIPTION:Fully funded training! These sessions are put on by WEM Interlake. \nThis series of workshops in designed to equip learners with the essential knowledge and skills required to excel in their role of an Administrative Assistant. \nTopics covered include office management\, communication\, organizational skills\, customer service and working with others. \nMay 22 – IN-PERSON\, 9:00 – 4:00 PM \nMay 29\, June 5\, 12\, 19 – ONLINE\, 9:00 – 12:00 PM \nJune 26 – IN-PERSON\, 9:00 – 4:00 PM \nIn-person sessions held at: Gaynor Family Regional Library\, Selkirk\, MB \nRegister at: interlake.west@wem.mb.ca
URL:https://eastmantourism.ca/current-events/administrative-assistant-tool-kit/2026-06-26/
LOCATION:Gaynor Family Regional Library\, 806 Manitoba Ave\, Selkirk\, Manitoba\, R1A 2H4\, Canada
END:VEVENT
BEGIN:VEVENT
DTSTART;VALUE=DATE:20260627
DTEND;VALUE=DATE:20260628
DTSTAMP:20260424T054203
CREATED:20260327T060513Z
LAST-MODIFIED:20260327T060513Z
UID:10000108-1782518400-1782604799@eastmantourism.ca
SUMMARY:St. Malo Triathalon
DESCRIPTION:Prairie Performance Triathlon is excited to welcome another season of racing at St. Malo. This year our race falls on June 27th and 28th. All adults\, kids\, and para-athletes are all encouraged to register. For more information\, please head to stmalotri.ca. We can’t wait to see you there!\nRegister Here: St. Malo Triathalon
URL:https://eastmantourism.ca/current-events/st-malo-triathalon/2026-06-27/
ATTACH;FMTTYPE=image/png:https://eastmantourism.ca/wp-content/uploads/2026/03/Screenshot-2026-03-27-at-1.01.59-AM.png
END:VEVENT
BEGIN:VEVENT
DTSTART;VALUE=DATE:20260627
DTEND;VALUE=DATE:20260629
DTSTAMP:20260424T054203
CREATED:20260422T213402Z
LAST-MODIFIED:20260423T132126Z
UID:10000200-1782518400-1782691199@eastmantourism.ca
SUMMARY:Vita Canada Day Celebration
DESCRIPTION:Two days of family fun! \nSaturday\, June 27th: \n\nShow & Shine\nLive Entertainment\nFood Vendors\nKids Acitivities\n\nSunday\, June 28th: \n\nCanada Day Festivities\nStrongman Competition\nWrestling\nMud Races\nLive Music & Beer Gardens\n\nFun for all ages! Bring your family\, friends & lawn chairs! \nFor more info\, contact Angela at 204-712-0350\, or vitacanadaday@hotmail.com
URL:https://eastmantourism.ca/current-events/vita-canada-day-celebration/
END:VEVENT
BEGIN:VEVENT
DTSTART;TZID=America/Winnipeg:20260627T110000
DTEND;TZID=America/Winnipeg:20260627T150000
DTSTAMP:20260424T054203
CREATED:20260423T135615Z
LAST-MODIFIED:20260423T135615Z
UID:10000207-1782558000-1782572400@eastmantourism.ca
SUMMARY:Show & Shine - Vita Canada Day
DESCRIPTION:Please contact Rachel @ 204-391-4844 for more information.
URL:https://eastmantourism.ca/current-events/show-shine-vita-canada-day/
END:VEVENT
BEGIN:VEVENT
DTSTART;TZID=America/Winnipeg:20260627T110000
DTEND;TZID=America/Winnipeg:20260627T180000
DTSTAMP:20260424T054203
CREATED:20260423T142030Z
LAST-MODIFIED:20260423T142030Z
UID:10000210-1782558000-1782583200@eastmantourism.ca
SUMMARY:Market - Vita Canada Day
DESCRIPTION:Booth fee: $40 \nIncludes a wrist band for the weekend. \nContact Crystal at 204-392-9801 or gardentonplants@outlook.com
URL:https://eastmantourism.ca/current-events/market-vita-canada-day/
END:VEVENT
BEGIN:VEVENT
DTSTART;TZID=America/Winnipeg:20260627T190000
DTEND;TZID=America/Winnipeg:20260627T210000
DTSTAMP:20260424T054203
CREATED:20260417T210243Z
LAST-MODIFIED:20260417T210243Z
UID:10000194-1782586800-1782594000@eastmantourism.ca
SUMMARY:CWE Presents the Cruel Summer Tour
DESCRIPTION:CWE Presents The Cruel Summer Tour In Anola\, MB on June 27th. \nSaturday\, June 27th- Anola\, MB\nLocation: Anola Community Club (35085 MB-15)\nTime: VIP Doors: 6pm\, Doors Open 6:30pm\, Bell time 7:00pm.\nTickets: VIP First Access Ticket $21 ($26 at the door)\, General Admission $16 in advance\, $21 at the door.\nAdvance Tickets Available at: Pine Ridge Dental (30 CO-OP Dr. Unit 1\, Oakbank\, MB)\nPurchase tickets online at cwetickets.com \nCanadian Wrestling’s Elite brought back the long overdue return of professional wrestling to Anola in 2025 and due to its great success we are excited to announce that The Cruel Summer will return to Anola in 2026 on Saturday\, June 27th Presented by The Carillon! \nKick off the summer with the stars of Canadian Wrestling’s Elite! \nTickets will be on sale at the end of April! \nAlready signed to appear: \nThe Collins Family Tradition (“The Rebel” Bobby & Brenden Collins) return to the region!\nDugald’s Ronnie Attitude\n2025 Elite 8 Winner “Sweet” Bobby Schink\nCWE Central Canadian Champion “Bad Boy” Anderson Tyson Moore\n7x CWE Champion “Hotshot” Danny Duggan\n“The Monster” BRAX\nWinnipeg Wrestling Legend “The PIssed Off Pitbull” Robby Royce\nBamm Bamm Burton\n“The Mastermind” Kevin Cannon\nScott Ripley\nPlus Dr. Marty Goldstein hosts & much more! \nFor more information as it becomes available stay tuned to www.cwecanada.ca
URL:https://eastmantourism.ca/current-events/cwe-presents-the-cruel-summer-tour/
LOCATION:Anola Community Club\, 35085 MB-15\, Anola\, MB\, Canada
END:VEVENT
BEGIN:VEVENT
DTSTART;VALUE=DATE:20260628
DTEND;VALUE=DATE:20260629
DTSTAMP:20260424T054203
CREATED:20260327T060513Z
LAST-MODIFIED:20260327T060513Z
UID:10000109-1782633600-1782666000@eastmantourism.ca
SUMMARY:St. Malo Triathalon
DESCRIPTION:Prairie Performance Triathlon is excited to welcome another season of racing at St. Malo. This year our race falls on June 27th and 28th. All adults\, kids\, and para-athletes are all encouraged to register. For more information\, please head to stmalotri.ca. We can’t wait to see you there!\nRegister Here: St. Malo Triathalon
URL:https://eastmantourism.ca/current-events/st-malo-triathalon/2026-06-28/
ATTACH;FMTTYPE=image/png:https://eastmantourism.ca/wp-content/uploads/2026/03/Screenshot-2026-03-27-at-1.01.59-AM.png
END:VEVENT
BEGIN:VEVENT
DTSTART;VALUE=DATE:20260706
DTEND;VALUE=DATE:20260829
DTSTAMP:20260424T054203
CREATED:20260423T143202Z
LAST-MODIFIED:20260423T143202Z
UID:10000211-1783296000-1787961599@eastmantourism.ca
SUMMARY:Summer Fun
DESCRIPTION:$50.00 per week. \nThemes: \n\nJuly 6 – 11: spa\nJuly 13 – 17 : multimedia/art\nJuly 20-24 : farm\nJuly 27 – 31: insects and reptiles\nAugust 3 – 7: safari / jungle\nAugust 10 – 14: olympics\nAugust 17 -21: space\nAugust 24 – 28: carnival\n\nActivites: \n\nArts & crafts\nWater games\nMusic & dance\nFun sports\n\nSpecial guests: \n\nPrairie Exotic Reptiles – July 29th @ 10:30\nBrittany’s Farm Animals – July 24th @ 9:30\nFit For Kids – July 20\, July 27\, August 10\, August 17 @ 10:00\nPizza Party! August 28th. Lunch and snacks provided this day.\n\nTo register\, or if you have any questions\, contact Jean at vitachildcare@gmail.com\, or 204-425-3580. \nReigstration deadline: June 19th\, 2026 \nJoin us for lots of fun!
URL:https://eastmantourism.ca/current-events/summer-fun/
LOCATION:Vita Community Child Care Center Inc.\, 207 Poplar Street\, Vita\, Manitoba\, Canada
END:VEVENT
BEGIN:VEVENT
DTSTART;TZID=America/Winnipeg:20260723T183000
DTEND;TZID=America/Winnipeg:20260723T203000
DTSTAMP:20260424T054203
CREATED:20260417T194001Z
LAST-MODIFIED:20260417T194001Z
UID:10000184-1784831400-1784838600@eastmantourism.ca
SUMMARY:Homegrown Harmonies - Music in the Park
DESCRIPTION:
URL:https://eastmantourism.ca/current-events/homegrown-harmonies-music-in-the-park-3/
LOCATION:TC Energy Centre\, 1 Rivard Street\, Ile des Chenes\, MB\, Canada
END:VEVENT
BEGIN:VEVENT
DTSTART;TZID=America/Winnipeg:20260726T100000
DTEND;TZID=America/Winnipeg:20260726T150000
DTSTAMP:20260424T054203
CREATED:20260417T202926Z
LAST-MODIFIED:20260417T202926Z
UID:10000190-1785060000-1785078000@eastmantourism.ca
SUMMARY:St Adolphe Markets
DESCRIPTION:
URL:https://eastmantourism.ca/current-events/st-adolphe-markets-2/
LOCATION:RM of Richot Office\, 352 Main St\, St. Adolphe\, MB\, Canada
END:VEVENT
BEGIN:VEVENT
DTSTART;TZID=America/Winnipeg:20260730T210000
DTEND;TZID=America/Winnipeg:20260730T230000
DTSTAMP:20260424T054203
CREATED:20260417T195637Z
LAST-MODIFIED:20260417T195637Z
UID:10000187-1785445200-1785452400@eastmantourism.ca
SUMMARY:Movies in the Park
DESCRIPTION:Movie begins at sunset.
URL:https://eastmantourism.ca/current-events/movies-in-the-park/
LOCATION:Boat Launch\, Ste. Agathe\, MB\, Canada
END:VEVENT
END:VCALENDAR