BEGIN:VCALENDAR
VERSION:2.0
PRODID:-//Eastman Tourism - ECPv6.15.14//NONSGML v1.0//EN
CALSCALE:GREGORIAN
METHOD:PUBLISH
X-WR-CALNAME:Eastman Tourism
X-ORIGINAL-URL:https://eastmantourism.ca
X-WR-CALDESC:Events for Eastman Tourism
REFRESH-INTERVAL;VALUE=DURATION:PT1H
X-Robots-Tag:noindex
X-PUBLISHED-TTL:PT1H
BEGIN:VTIMEZONE
TZID:America/Winnipeg
BEGIN:DAYLIGHT
TZOFFSETFROM:-0600
TZOFFSETTO:-0500
TZNAME:CDT
DTSTART:20240310T080000
END:DAYLIGHT
BEGIN:STANDARD
TZOFFSETFROM:-0500
TZOFFSETTO:-0600
TZNAME:CST
DTSTART:20241103T070000
END:STANDARD
BEGIN:DAYLIGHT
TZOFFSETFROM:-0600
TZOFFSETTO:-0500
TZNAME:CDT
DTSTART:20250309T080000
END:DAYLIGHT
BEGIN:STANDARD
TZOFFSETFROM:-0500
TZOFFSETTO:-0600
TZNAME:CST
DTSTART:20251102T070000
END:STANDARD
BEGIN:DAYLIGHT
TZOFFSETFROM:-0600
TZOFFSETTO:-0500
TZNAME:CDT
DTSTART:20260308T080000
END:DAYLIGHT
BEGIN:STANDARD
TZOFFSETFROM:-0500
TZOFFSETTO:-0600
TZNAME:CST
DTSTART:20261101T070000
END:STANDARD
BEGIN:DAYLIGHT
TZOFFSETFROM:-0600
TZOFFSETTO:-0500
TZNAME:CDT
DTSTART:20270314T080000
END:DAYLIGHT
BEGIN:STANDARD
TZOFFSETFROM:-0500
TZOFFSETTO:-0600
TZNAME:CST
DTSTART:20271107T070000
END:STANDARD
END:VTIMEZONE
BEGIN:VEVENT
DTSTART;TZID=America/Winnipeg:20251004T110000
DTEND;TZID=America/Winnipeg:20251004T150000
DTSTAMP:20260424T111311
CREATED:20250709T192024Z
LAST-MODIFIED:20250709T192024Z
UID:10000101-1759575600-1759590000@eastmantourism.ca
SUMMARY:Scarecrow Fest
DESCRIPTION:All ages are welcome\, FREE admission! Join the Scarecrow Contest for a chance to win cash prizes – those interested in participating can contact 204-266-2269 or srossing@mymts.net. There will also be kids activities\, and hotdogs\, drinks & chips available for purchase.
URL:https://eastmantourism.ca/current-events/scarecrow-fest/
LOCATION:Daylily Gardens\, First St N\, Beausejour\, Manitoba\, R0E 0C0\, Canada
ORGANIZER;CN="Beausejour Brokenhead Development Corporation":MAILTO:bbdc@bbdcbiz.ca
END:VEVENT
BEGIN:VEVENT
DTSTART;TZID=America/Winnipeg:20251018T170000
DTEND;TZID=America/Winnipeg:20251018T170000
DTSTAMP:20260424T111311
CREATED:20251006T221325Z
LAST-MODIFIED:20251006T221541Z
UID:10000102-1760806800-1760806800@eastmantourism.ca
SUMMARY:Prawda Fall Supper
DESCRIPTION:Adults $25 | Ages 6–15 $15 | Under 5 Free \nNothing says fall like good food and good company.
URL:https://eastmantourism.ca/current-events/prawda-fall-supper/
LOCATION:Reynolds Community Centre
ATTACH;FMTTYPE=image/png:https://eastmantourism.ca/wp-content/uploads/2025/10/Screenshot-2025-10-06-at-5.15.17-PM.png
ORGANIZER;CN="Eastman Tourism":MAILTO:admin@eastmantourism.ca
END:VEVENT
BEGIN:VEVENT
DTSTART;TZID=America/Winnipeg:20251019T150000
DTEND;TZID=America/Winnipeg:20251019T180000
DTSTAMP:20260424T111311
CREATED:20251006T221706Z
LAST-MODIFIED:20251006T221706Z
UID:10000103-1760886000-1760896800@eastmantourism.ca
SUMMARY:Ile des Chênes Fall Supper
DESCRIPTION:Adults $20 | Seniors & Students $15 | Ages 4–12 $10 \nNothing says fall like good food and good company.
URL:https://eastmantourism.ca/current-events/ile-des-chenes-fall-supper/
LOCATION:TC Energy Centre\, 1 Rivard Street\, Ile des Chenes\, MB\, Canada
ATTACH;FMTTYPE=image/png:https://eastmantourism.ca/wp-content/uploads/2025/10/Screenshot-2025-10-06-at-5.15.17-PM.png
ORGANIZER;CN="Eastman Tourism":MAILTO:admin@eastmantourism.ca
END:VEVENT
BEGIN:VEVENT
DTSTART;TZID=America/Winnipeg:20260320T120000
DTEND;TZID=America/Winnipeg:20260320T120000
DTSTAMP:20260424T111311
CREATED:20260313T181339Z
LAST-MODIFIED:20260313T181420Z
UID:10000106-1774008000-1774008000@eastmantourism.ca
SUMMARY:Wildfire Resilience Assistance Program - Application Deadline
DESCRIPTION:Travel Manitoba is inviting Manitoba tourism operators to apply for the Wildfire Resilience Assistance Program. This program offers support to remote tourism businesses to help them future-proof against wildfires. \nTravel Manitoba’s Wildfire Resilience Assistance Program supports fixed-roof accommodations and key facilities related to operations in remote\, high-risk wildfire areas of Manitoba\, including lodges and outfitters\, by helping tourism operators purchase heavily subsidized wildfire protection equipment or receive rebates for comparable value protection equipment purchased since April 1\, 2025. \nAll successful applicants will receive subsidies of up to 90% under the program (the total estimated value of each Value Protection Unit [VPU] is $ 7\,000 CAD) or rebates on comparable equipment purchased since April 1\, 2025. Each VPU kit\, compatible with the Manitoba Wildfire Service’s standard equipment\, will include sprinklers\, hoses\, a water pump\, and all necessary connections.   \nApplications close at noon (Central) on Friday\, March 20\, 2026; successful applicants will be notified on or before March 31\, 2026\, including if they will receive more than one kit.
URL:https://eastmantourism.ca/current-events/wildfire-resilience-assistance-program-application-deadline/
LOCATION:Manitoba
ATTACH;FMTTYPE=image/jpeg:https://eastmantourism.ca/wp-content/uploads/2026/03/e210a8e9-14af-5816-3522-276a1a93949a.jpg
END:VEVENT
BEGIN:VEVENT
DTSTART;TZID=America/Winnipeg:20260324T170000
DTEND;TZID=America/Winnipeg:20260324T170000
DTSTAMP:20260424T111311
CREATED:20260323T132116Z
LAST-MODIFIED:20260323T132228Z
UID:10000107-1774371600-1774371600@eastmantourism.ca
SUMMARY:RM of Lac du Bonnet - Special Meeting
DESCRIPTION:The Lac du Bonnet Planning District is holding a Special Meeting on Tuesday\, March 24\, 2026\, at 5 p.m. in the RM of Lac du Bonnet Council Chambers to conduct first and second reading of the new Development Plan (By-Law 01-2026). \nFind all information and the Development Plan document on the M Richard & Associates Lac du Bonnet project page.
URL:https://eastmantourism.ca/current-events/rm-of-lac-du-bonnet-special-meeting/
LOCATION:RM of Lac du Bonnet Council Chambers\, # 4187 - PR 317\, P.O. Box 100\, Lac du Bonnet\, Manitoba\, R0E 1A0\, Canada
END:VEVENT
BEGIN:VEVENT
DTSTART;VALUE=DATE:20260401
DTEND;VALUE=DATE:20260626
DTSTAMP:20260424T111311
CREATED:20260422T212822Z
LAST-MODIFIED:20260422T212822Z
UID:10000199-1775001600-1782431999@eastmantourism.ca
SUMMARY:UMVS Camping
DESCRIPTION:Seasonal sites avaliable\nBookings open April 1st\, 2026\nFirst come basis – spots limited\nPayments must be paid in full to confirm site \nSites include: \n\ntoliets/showers\nfishing\nbring a canoe/kayak\npeaceful quiet camping\n\nFrom June 26th to September long: $650\nSites not serviced\nFor more information\, contact umvscampground@gmail.com
URL:https://eastmantourism.ca/current-events/umvs-camping/
LOCATION:Ukrainian Museum & Village Society Inc. – Camping\, 5301 PR209\, Gardenton\, Manitoba\, Canada
END:VEVENT
BEGIN:VEVENT
DTSTART;VALUE=DATE:20260419
DTEND;VALUE=DATE:20260426
DTSTAMP:20260424T111311
CREATED:20260410T193546Z
LAST-MODIFIED:20260410T193546Z
UID:10000181-1776556800-1777161599@eastmantourism.ca
SUMMARY:Let's Ignite Volunteerism!
DESCRIPTION:This year’s National Volunteer Week (April 19 – 25) comes with a fiery hot theme: Ignite Volunteerism! \nVolunteers are the sparks that bring our communities to life.   \nPlus\, this year has been recognized as the International Year of the Volunteer! Volunteer Canada is inviting people from all backgrounds to “Find Your Thing.” This campaign highlights the many personal ways people contribute to their communities and encourages others to spark that same sense of curiosity\, connection\, and discovery. \nAs non-profit leaders and volunteer engagers during National Volunteer Week 2026 we come together to recognize and celebrate all the ways volunteers ignite our province. \nWhat can you do to celebrate volunteers between April 19 – April 25? \nWe’ve got you covered! \nPost on social media thanking your volunteers using Volunteer Canada’s Campaign Kit\, don’t forget to tag us @volunteermanitoba \nHand write a thank you message to your volunteers; they will appreciate the time it took for you to write something out! \nProvide small tokens of appreciation you can purchase on the Volunteer Canada’s website. \nHost a Volunteer Appreciation Event\, it can be small little gathering during a volunteer shift! \nFor more information about National Volunteer Week ideas\, visit our latest blog post\, click the link below! \nMore Volunteer Appreciation ideas here!
URL:https://eastmantourism.ca/current-events/lets-ignite-volunteerism/
LOCATION:Manitoba
END:VEVENT
BEGIN:VEVENT
DTSTART;VALUE=DATE:20260423
DTEND;VALUE=DATE:20260513
DTSTAMP:20260424T111311
CREATED:20260423T144228Z
LAST-MODIFIED:20260423T144228Z
UID:10000213-1776902400-1778630399@eastmantourism.ca
SUMMARY:Winkler Meats Fundraiser
DESCRIPTION:UMVS will recieve 25% of sales going towards repairs and maintenance. \nA variety of choices to MEAT everyone’s needs! \nSubmit orders to email below. If paying by cheque\, deadline will be May 1st to allow cheque to clear. \numvsfundraising@gmail.com \nOrders due May 12\, 2026. \nPick up June 14 at UMVS Father’s Day BBQ.
URL:https://eastmantourism.ca/current-events/winkler-meats-fundraiser/
LOCATION:Manitoba
END:VEVENT
BEGIN:VEVENT
DTSTART;TZID=America/Winnipeg:20260423T100000
DTEND;TZID=America/Winnipeg:20260423T120000
DTSTAMP:20260424T111311
CREATED:20260410T184923Z
LAST-MODIFIED:20260410T184923Z
UID:10000167-1776938400-1776945600@eastmantourism.ca
SUMMARY:Spreadsheets For The Workplace - Excel Level 1
DESCRIPTION:Fully funded training! These sessions are fully online\, put on by WEM Interlake. \nIncrease your skills for success and learn how to efficiently use Excel formulas\, tables and charts for managing business processes. \nYou’ll be on your way to EXCEL-lence! \nRegister now at interlake.west@wem.mb.ca !
URL:https://eastmantourism.ca/current-events/spreadsheets-for-the-workplace-excel-level-1/2026-04-23/
LOCATION:Online
END:VEVENT
BEGIN:VEVENT
DTSTART;TZID=America/Winnipeg:20260425T100000
DTEND;TZID=America/Winnipeg:20260425T120000
DTSTAMP:20260424T111311
CREATED:20260422T211418Z
LAST-MODIFIED:20260422T211418Z
UID:10000197-1777111200-1777118400@eastmantourism.ca
SUMMARY:Adventures with Nature Norm
DESCRIPTION:Join us on Adventures with Nature Norm as we learn about rodents of the tall-grass prairie!\nYou will be provided with a pair of binoculars\, and a set of walking sticks. \nCost: FREE \nTo register or for more information please contact Norm Gregoire from Shared Legacy at 204-408-6166 or info@sharedlegacymb.ca . \nFor more information\, see the attached flyer.
URL:https://eastmantourism.ca/current-events/adventures-with-nature-norm/
LOCATION:Weston Family Tall Grass Prairie Interpretive Centre\, Stuartburn\, Manitoba\, Canada
END:VEVENT
BEGIN:VEVENT
DTSTART;TZID=America/Winnipeg:20260425T163000
DTEND;TZID=America/Winnipeg:20260425T183000
DTSTAMP:20260424T111311
CREATED:20260423T140643Z
LAST-MODIFIED:20260423T140643Z
UID:10000208-1777134600-1777141800@eastmantourism.ca
SUMMARY:Perogy Supper
DESCRIPTION:Come and enjoy a perogy supper in support of Sirko women’s association. \nThe menu is perogies\, sausage\, coleslaw\, and dessert. \nAdults – $15 \nChildren 6 to 12 years – $10 \n5 and under – free \nSponsored by the Sirko women’s association.
URL:https://eastmantourism.ca/current-events/perogy-supper/
LOCATION:Sirko Hall\, Sirko\, Manitoba\, Canada
END:VEVENT
BEGIN:VEVENT
DTSTART;TZID=America/Winnipeg:20260426T100000
DTEND;TZID=America/Winnipeg:20260426T140000
DTSTAMP:20260424T111311
CREATED:20260422T205047Z
LAST-MODIFIED:20260422T205047Z
UID:10000195-1777197600-1777212000@eastmantourism.ca
SUMMARY:Pancake Breakfast
DESCRIPTION:Adults – $10.00 / person\n6-10 years – $5.00 each\nPreschoolers are FREE\nEveryone welcome.
URL:https://eastmantourism.ca/current-events/pancake-breakfast/
LOCATION:Vita Friendship Centre\, 226 Home Street\, Vita\, Manitoba\, Canada
END:VEVENT
BEGIN:VEVENT
DTSTART;TZID=America/Winnipeg:20260430T100000
DTEND;TZID=America/Winnipeg:20260430T120000
DTSTAMP:20260424T111311
CREATED:20260410T184923Z
LAST-MODIFIED:20260410T184923Z
UID:10000168-1777543200-1777550400@eastmantourism.ca
SUMMARY:Spreadsheets For The Workplace - Excel Level 1
DESCRIPTION:Fully funded training! These sessions are fully online\, put on by WEM Interlake. \nIncrease your skills for success and learn how to efficiently use Excel formulas\, tables and charts for managing business processes. \nYou’ll be on your way to EXCEL-lence! \nRegister now at interlake.west@wem.mb.ca !
URL:https://eastmantourism.ca/current-events/spreadsheets-for-the-workplace-excel-level-1/2026-04-30/
LOCATION:Online
END:VEVENT
BEGIN:VEVENT
DTSTART;TZID=America/Winnipeg:20260502T130000
DTEND;TZID=America/Winnipeg:20260502T160000
DTSTAMP:20260424T111311
CREATED:20260423T133208Z
LAST-MODIFIED:20260423T133235Z
UID:10000201-1777726800-1777737600@eastmantourism.ca
SUMMARY:All Ages Community Forest & Nature School
DESCRIPTION:Presented by Gerhard E. Dekker Regenerative Education Center \n\nWild Skills\nArts & Crafts\nExploring & Play\nIn Reciprocity with the Land\n\nSat. May 2 – Red Willow Dreamcatcher Workshop with Alicia Alphonso & Big Group Games \nWed. June 17 – Nature Inspired Self Portraits & Herbal First Aid \nBoth sessions – free creative play\, with access to loose parts\, art materials\, equipment\, books & tools. Games\, sit spot & natural journaling. Intergenerational skill sharing. \n$5 – $33 sliding scale \nAges 0-99+ \nChildren must be accompanied by an adult. \nTo register\, visit www.gerhardcenter.org \nWith thanks to the Manitoba Government’s From the Ground Up grant funding\, which has made this program possible.
URL:https://eastmantourism.ca/current-events/all-ages-community-froest-nature-school/2026-05-02/
LOCATION:Weston Family Tall Grass Prairie Interpretive Centre\, Stuartburn\, Manitoba\, Canada
END:VEVENT
BEGIN:VEVENT
DTSTART;TZID=America/Winnipeg:20260503T110000
DTEND;TZID=America/Winnipeg:20260503T140000
DTSTAMP:20260424T111311
CREATED:20260423T133959Z
LAST-MODIFIED:20260423T133959Z
UID:10000203-1777806000-1777816800@eastmantourism.ca
SUMMARY:Treat Mom to Coffee & Pie Auction
DESCRIPTION:Pies baked by our board. \nAuction starts at 11:45. \nBuy the slice also avaliable. In addition\, there are gift baskets and raffle draws. \numvsfundraising@gmail.com
URL:https://eastmantourism.ca/current-events/treat-mom-to-coffee-pie-auction/
LOCATION:Ukrainian Museum & Village Society Inc. – Gardenton Park\, 38M4+VQ\, Gardenton\, Manitoba\, Canada
END:VEVENT
BEGIN:VEVENT
DTSTART;TZID=America/Winnipeg:20260506T090000
DTEND;TZID=America/Winnipeg:20260506T120000
DTSTAMP:20260424T111311
CREATED:20260410T184111Z
LAST-MODIFIED:20260410T184314Z
UID:10000112-1778058000-1778068800@eastmantourism.ca
SUMMARY:Leading With Trust\, Safety & Accountability
DESCRIPTION:Fully funded training! These sessions are fully online\, put on by WEM Interlake. \nWhat you will learn: \n\nWhat is pyschological safety and why does it matter?\nGain practical skills like clear communication\, teamwork\, adaptability\, problem solving\, and empathetic listening.\nLearn to navigate performance conversations\nTake away practical strategies you can use right away to build trust with teams and create a more positive and supportive team environment.\n\nRegister at interlake.west@wem.mb.ca
URL:https://eastmantourism.ca/current-events/leading-with-trust-safety-accountability/2026-05-06/
LOCATION:Online
END:VEVENT
BEGIN:VEVENT
DTSTART;TZID=America/Winnipeg:20260507T100000
DTEND;TZID=America/Winnipeg:20260507T120000
DTSTAMP:20260424T111311
CREATED:20260410T184923Z
LAST-MODIFIED:20260410T184923Z
UID:10000169-1778148000-1778155200@eastmantourism.ca
SUMMARY:Spreadsheets For The Workplace - Excel Level 1
DESCRIPTION:Fully funded training! These sessions are fully online\, put on by WEM Interlake. \nIncrease your skills for success and learn how to efficiently use Excel formulas\, tables and charts for managing business processes. \nYou’ll be on your way to EXCEL-lence! \nRegister now at interlake.west@wem.mb.ca !
URL:https://eastmantourism.ca/current-events/spreadsheets-for-the-workplace-excel-level-1/2026-05-07/
LOCATION:Online
END:VEVENT
BEGIN:VEVENT
DTSTART;TZID=America/Winnipeg:20260507T190000
DTEND;TZID=America/Winnipeg:20260507T203000
DTSTAMP:20260424T111311
CREATED:20260423T135216Z
LAST-MODIFIED:20260423T145724Z
UID:10000215-1778180400-1778185800@eastmantourism.ca
SUMMARY:Sherwood - The Adventures of Robin Hood
DESCRIPTION:Shevchenko school presents Ken Ludwig’s Sherwood\, The Adventures of Robin Hood. \nAdults $10.00. \nStudents $7.00.
URL:https://eastmantourism.ca/current-events/sherwood-the-adventures-of-robin-hood/2026-05-07/
LOCATION:Manitoba
END:VEVENT
BEGIN:VEVENT
DTSTART;TZID=America/Winnipeg:20260508T190000
DTEND;TZID=America/Winnipeg:20260508T203000
DTSTAMP:20260424T111311
CREATED:20260423T135216Z
LAST-MODIFIED:20260423T145724Z
UID:10000216-1778266800-1778272200@eastmantourism.ca
SUMMARY:Sherwood - The Adventures of Robin Hood
DESCRIPTION:Shevchenko school presents Ken Ludwig’s Sherwood\, The Adventures of Robin Hood. \nAdults $10.00. \nStudents $7.00.
URL:https://eastmantourism.ca/current-events/sherwood-the-adventures-of-robin-hood/2026-05-08/
LOCATION:Manitoba
END:VEVENT
BEGIN:VEVENT
DTSTART;TZID=America/Winnipeg:20260509T160000
DTEND;TZID=America/Winnipeg:20260509T180000
DTSTAMP:20260424T111311
CREATED:20260423T134653Z
LAST-MODIFIED:20260423T134653Z
UID:10000204-1778342400-1778349600@eastmantourism.ca
SUMMARY:Dinner with Mom
DESCRIPTION:Celebrate Mom with a delicious fried chicken dinner! Bring the whole family out and give Mom the night off. \nAll are welcome. \n$15/plate. Includes fried chicken\, fries and dessert.
URL:https://eastmantourism.ca/current-events/dinner-with-mom/
LOCATION:Vita Community Hall\, 209 Main Street N\, Vita\, Manitoba\, Canada
END:VEVENT
BEGIN:VEVENT
DTSTART;TZID=America/Winnipeg:20260509T200000
DTEND;TZID=America/Winnipeg:20260509T220000
DTSTAMP:20260424T111311
CREATED:20260423T145351Z
LAST-MODIFIED:20260423T145351Z
UID:10000214-1778356800-1778364000@eastmantourism.ca
SUMMARY:Spring Into Wings Night
DESCRIPTION:$10 entrance. Drink specials. DJ music by The Universal Experience. Join us for a fun night! Come hungry!
URL:https://eastmantourism.ca/current-events/spring-into-wings-night/
LOCATION:Zhoda Community Hall\, 42168 Rd 16 N\, Zhoda\, Manitoba\, Canada
END:VEVENT
BEGIN:VEVENT
DTSTART;TZID=America/Winnipeg:20260513T090000
DTEND;TZID=America/Winnipeg:20260513T120000
DTSTAMP:20260424T111311
CREATED:20260410T184111Z
LAST-MODIFIED:20260410T184314Z
UID:10000113-1778662800-1778673600@eastmantourism.ca
SUMMARY:Leading With Trust\, Safety & Accountability
DESCRIPTION:Fully funded training! These sessions are fully online\, put on by WEM Interlake. \nWhat you will learn: \n\nWhat is pyschological safety and why does it matter?\nGain practical skills like clear communication\, teamwork\, adaptability\, problem solving\, and empathetic listening.\nLearn to navigate performance conversations\nTake away practical strategies you can use right away to build trust with teams and create a more positive and supportive team environment.\n\nRegister at interlake.west@wem.mb.ca
URL:https://eastmantourism.ca/current-events/leading-with-trust-safety-accountability/2026-05-13/
LOCATION:Online
END:VEVENT
BEGIN:VEVENT
DTSTART;TZID=America/Winnipeg:20260514T100000
DTEND;TZID=America/Winnipeg:20260514T120000
DTSTAMP:20260424T111311
CREATED:20260410T184923Z
LAST-MODIFIED:20260410T184923Z
UID:10000170-1778752800-1778760000@eastmantourism.ca
SUMMARY:Spreadsheets For The Workplace - Excel Level 1
DESCRIPTION:Fully funded training! These sessions are fully online\, put on by WEM Interlake. \nIncrease your skills for success and learn how to efficiently use Excel formulas\, tables and charts for managing business processes. \nYou’ll be on your way to EXCEL-lence! \nRegister now at interlake.west@wem.mb.ca !
URL:https://eastmantourism.ca/current-events/spreadsheets-for-the-workplace-excel-level-1/2026-05-14/
LOCATION:Online
END:VEVENT
BEGIN:VEVENT
DTSTART;TZID=America/Winnipeg:20260514T180000
DTEND;TZID=America/Winnipeg:20260514T193000
DTSTAMP:20260424T111311
CREATED:20260423T141557Z
LAST-MODIFIED:20260423T145850Z
UID:10000209-1778781600-1778787000@eastmantourism.ca
SUMMARY:Songs & Sweets
DESCRIPTION:Presented by Shevchenko School. \nPerformances by various school choirs and other local talent. Tea & danties at intermission. \nAdmission: \n$2.00 – students \n$5.00 – adults \nAll funds raised will go towards reaching our goal of purchasing a class set of Tubano drums for the music room.
URL:https://eastmantourism.ca/current-events/songs-sweets/
LOCATION:Manitoba
END:VEVENT
BEGIN:VEVENT
DTSTART;TZID=America/Winnipeg:20260520T090000
DTEND;TZID=America/Winnipeg:20260520T120000
DTSTAMP:20260424T111311
CREATED:20260410T184111Z
LAST-MODIFIED:20260410T184314Z
UID:10000114-1779267600-1779278400@eastmantourism.ca
SUMMARY:Leading With Trust\, Safety & Accountability
DESCRIPTION:Fully funded training! These sessions are fully online\, put on by WEM Interlake. \nWhat you will learn: \n\nWhat is pyschological safety and why does it matter?\nGain practical skills like clear communication\, teamwork\, adaptability\, problem solving\, and empathetic listening.\nLearn to navigate performance conversations\nTake away practical strategies you can use right away to build trust with teams and create a more positive and supportive team environment.\n\nRegister at interlake.west@wem.mb.ca
URL:https://eastmantourism.ca/current-events/leading-with-trust-safety-accountability/2026-05-20/
LOCATION:Online
END:VEVENT
BEGIN:VEVENT
DTSTART;TZID=America/Winnipeg:20260520T100000
DTEND;TZID=America/Winnipeg:20260520T120000
DTSTAMP:20260424T111311
CREATED:20260410T185205Z
LAST-MODIFIED:20260410T185205Z
UID:10000171-1779271200-1779278400@eastmantourism.ca
SUMMARY:Spreadsheets For The Workplace – Excel Level 2
DESCRIPTION:Fully funded training! These sessions are fully online\, put on by WEM Interlake. \nIncrease your skills for success and learn how to efficiently use Excel formulas\, tables and charts for managing business processes. \nYou’ll be on your way to EXCEL-lence! \nRegister now at interlake.west@wem.mb.ca !
URL:https://eastmantourism.ca/current-events/spreadsheets-for-the-workplace-excel-level-2/2026-05-20/
LOCATION:Manitoba
END:VEVENT
BEGIN:VEVENT
DTSTART;TZID=America/Winnipeg:20260522T090000
DTEND;TZID=America/Winnipeg:20260522T160000
DTSTAMP:20260424T111311
CREATED:20260410T191005Z
LAST-MODIFIED:20260410T191200Z
UID:10000175-1779440400-1779465600@eastmantourism.ca
SUMMARY:Administrative Assistant Tool Kit
DESCRIPTION:Fully funded training! These sessions are put on by WEM Interlake. \nThis series of workshops in designed to equip learners with the essential knowledge and skills required to excel in their role of an Administrative Assistant. \nTopics covered include office management\, communication\, organizational skills\, customer service and working with others. \nMay 22 – IN-PERSON\, 9:00 – 4:00 PM \nMay 29\, June 5\, 12\, 19 – ONLINE\, 9:00 – 12:00 PM \nJune 26 – IN-PERSON\, 9:00 – 4:00 PM \nIn-person sessions held at: Gaynor Family Regional Library\, Selkirk\, MB \nRegister at: interlake.west@wem.mb.ca
URL:https://eastmantourism.ca/current-events/administrative-assistant-tool-kit/2026-05-22/
LOCATION:Gaynor Family Regional Library\, 806 Manitoba Ave\, Selkirk\, Manitoba\, R1A 2H4\, Canada
END:VEVENT
BEGIN:VEVENT
DTSTART;TZID=America/Winnipeg:20260527T100000
DTEND;TZID=America/Winnipeg:20260527T120000
DTSTAMP:20260424T111311
CREATED:20260410T185205Z
LAST-MODIFIED:20260410T185205Z
UID:10000172-1779876000-1779883200@eastmantourism.ca
SUMMARY:Spreadsheets For The Workplace – Excel Level 2
DESCRIPTION:Fully funded training! These sessions are fully online\, put on by WEM Interlake. \nIncrease your skills for success and learn how to efficiently use Excel formulas\, tables and charts for managing business processes. \nYou’ll be on your way to EXCEL-lence! \nRegister now at interlake.west@wem.mb.ca !
URL:https://eastmantourism.ca/current-events/spreadsheets-for-the-workplace-excel-level-2/2026-05-27/
LOCATION:Manitoba
END:VEVENT
BEGIN:VEVENT
DTSTART;TZID=America/Winnipeg:20260528T183000
DTEND;TZID=America/Winnipeg:20260528T203000
DTSTAMP:20260424T111311
CREATED:20260417T193211Z
LAST-MODIFIED:20260417T193820Z
UID:10000182-1779993000-1780000200@eastmantourism.ca
SUMMARY:Homegrown Harmonies - Music in the Park
DESCRIPTION:
URL:https://eastmantourism.ca/current-events/homegrown-harmonies-music-in-the-park/
LOCATION:Boat Launch\, Ste. Agathe\, MB\, Canada
END:VEVENT
BEGIN:VEVENT
DTSTART;TZID=America/Winnipeg:20260529T090000
DTEND;TZID=America/Winnipeg:20260529T120000
DTSTAMP:20260424T111311
CREATED:20260410T191504Z
LAST-MODIFIED:20260410T191504Z
UID:10000177-1780045200-1780056000@eastmantourism.ca
SUMMARY:Administrative Assistant Tool Kit
DESCRIPTION:Fully funded training! These sessions are put on by WEM Interlake. \nThis series of workshops in designed to equip learners with the essential knowledge and skills required to excel in their role of an Administrative Assistant. \nTopics covered include office management\, communication\, organizational skills\, customer service and working with others. \nMay 22 – IN-PERSON\, 9:00 – 4:00 PM \nMay 29\, June 5\, 12\, 19 – ONLINE\, 9:00 – 12:00 PM \nJune 26 – IN-PERSON\, 9:00 – 4:00 PM \nIn-person sessions held at: Gaynor Family Regional Library\, Selkirk\, MB \nRegister at: interlake.west@wem.mb.ca
URL:https://eastmantourism.ca/current-events/administrative-assistant-tool-kit-2/2026-05-29/
LOCATION:Online
END:VEVENT
END:VCALENDAR