BEGIN:VCALENDAR
VERSION:2.0
PRODID:-//Eastman Tourism - ECPv6.15.14//NONSGML v1.0//EN
CALSCALE:GREGORIAN
METHOD:PUBLISH
X-ORIGINAL-URL:https://eastmantourism.ca
X-WR-CALDESC:Events for Eastman Tourism
REFRESH-INTERVAL;VALUE=DURATION:PT1H
X-Robots-Tag:noindex
X-PUBLISHED-TTL:PT1H
BEGIN:VTIMEZONE
TZID:America/Winnipeg
BEGIN:DAYLIGHT
TZOFFSETFROM:-0600
TZOFFSETTO:-0500
TZNAME:CDT
DTSTART:20240310T080000
END:DAYLIGHT
BEGIN:STANDARD
TZOFFSETFROM:-0500
TZOFFSETTO:-0600
TZNAME:CST
DTSTART:20241103T070000
END:STANDARD
BEGIN:DAYLIGHT
TZOFFSETFROM:-0600
TZOFFSETTO:-0500
TZNAME:CDT
DTSTART:20250309T080000
END:DAYLIGHT
BEGIN:STANDARD
TZOFFSETFROM:-0500
TZOFFSETTO:-0600
TZNAME:CST
DTSTART:20251102T070000
END:STANDARD
BEGIN:DAYLIGHT
TZOFFSETFROM:-0600
TZOFFSETTO:-0500
TZNAME:CDT
DTSTART:20260308T080000
END:DAYLIGHT
BEGIN:STANDARD
TZOFFSETFROM:-0500
TZOFFSETTO:-0600
TZNAME:CST
DTSTART:20261101T070000
END:STANDARD
END:VTIMEZONE
BEGIN:VEVENT
DTSTART;TZID=America/Winnipeg:20250826T160000
DTEND;TZID=America/Winnipeg:20250826T200000
DTSTAMP:20260422T104137
CREATED:20250709T191500Z
LAST-MODIFIED:20250709T191500Z
UID:10000099-1756224000-1756238400@eastmantourism.ca
SUMMARY:Breezy Oaks Inn & Tavern Night Market
DESCRIPTION:You won’t want to miss out on this night market! It’s wing night at the tavern plus there will be food\, snacks\, drinks\, entertainment\, and various local sellers set up. Anyone interested in being a vendor at this event can email garandash@hotmail.com
URL:https://eastmantourism.ca/current-events/breezy-oaks-inn-tavern-night-market/
LOCATION:Breezy Oaks Inn & Tavern\, 1055 Park Ave\, Beausejour\, Manitoba\, R0E 0C0\, Canada
ORGANIZER;CN="Beausejour Brokenhead Development Corporation":MAILTO:bbdc@bbdcbiz.ca
END:VEVENT
END:VCALENDAR